BEGIN:VCALENDAR
VERSION:2.0
PRODID:-//TD SYNNEX Share the Magic - ECPv6.3.4//NONSGML v1.0//EN
CALSCALE:GREGORIAN
METHOD:PUBLISH
X-ORIGINAL-URL:https://www.tdsynnex.com/na/sharethemagic
X-WR-CALDESC:Events for TD SYNNEX Share the Magic
REFRESH-INTERVAL;VALUE=DURATION:PT1H
X-Robots-Tag:noindex
X-PUBLISHED-TTL:PT1H
BEGIN:VTIMEZONE
TZID:America/Halifax
BEGIN:DAYLIGHT
TZOFFSETFROM:-0400
TZOFFSETTO:-0300
TZNAME:ADT
DTSTART:20230312T060000
END:DAYLIGHT
BEGIN:STANDARD
TZOFFSETFROM:-0300
TZOFFSETTO:-0400
TZNAME:AST
DTSTART:20231105T050000
END:STANDARD
END:VTIMEZONE
BEGIN:VEVENT
DTSTART;TZID=America/Halifax:20230413T180000
DTEND;TZID=America/Halifax:20230413T220000
DTSTAMP:20260424T030622
CREATED:20230406T191653Z
LAST-MODIFIED:20230406T191653Z
UID:12145-1681408800-1681423200@www.tdsynnex.com
SUMMARY:TD SYNNEX Share the Magic Speakeasy Soiree (Arizona)
DESCRIPTION:« All Events\n \n\n \nThe TD SYNNEX Share the Magic Speakeasy Soiree will be held on April 13th at The White Rabbit in Gilbert\, AZ. TD SYNNEX will bring their vendors\, customers\, local businesses and the community together for an inspiring evening to raise money for Special Olympics of Arizona and House of Refuge. \nSponsorship Opportunities: Click here to view sponsorship opportunities
URL:https://www.tdsynnex.com/na/sharethemagic/event/td-synnex-share-the-magic-speakeasy-soiree-arizona/
LOCATION:The White Rabbit\, 207 N Gilbert Rd\, Gilbert\, AZ\, 85234\, United States
CATEGORIES:Arizona
ATTACH;FMTTYPE=image/png:https://www.tdsynnex.com/na/sharethemagic/wp-content/uploads/2023/04/TDSSTM_ArizonaSpeakeasySoiree_Featured.png
END:VEVENT
END:VCALENDAR