BEGIN:VCALENDAR
VERSION:2.0
PRODID:-//TD SYNNEX Share the Magic - ECPv6.3.4//NONSGML v1.0//EN
CALSCALE:GREGORIAN
METHOD:PUBLISH
X-ORIGINAL-URL:https://www.tdsynnex.com/na/sharethemagic
X-WR-CALDESC:Events for TD SYNNEX Share the Magic
REFRESH-INTERVAL;VALUE=DURATION:PT1H
X-Robots-Tag:noindex
X-PUBLISHED-TTL:PT1H
BEGIN:VTIMEZONE
TZID:America/Halifax
BEGIN:DAYLIGHT
TZOFFSETFROM:-0400
TZOFFSETTO:-0300
TZNAME:ADT
DTSTART:20230312T060000
END:DAYLIGHT
BEGIN:STANDARD
TZOFFSETFROM:-0300
TZOFFSETTO:-0400
TZNAME:AST
DTSTART:20231105T050000
END:STANDARD
END:VTIMEZONE
BEGIN:VEVENT
DTSTART;TZID=America/Halifax:20231028T070000
DTEND;TZID=America/Halifax:20231028T160000
DTSTAMP:20260423T171532
CREATED:20230406T173232Z
LAST-MODIFIED:20230406T173232Z
UID:12122-1698476400-1698508800@www.tdsynnex.com
SUMMARY:TD SYNNEX Share the Magic Golf Tournament (South Carolina)
DESCRIPTION:« All Events\n \n\n \nThe TD SYNNEX Share the Magic South Carolina Golf Tournament will return to Green Valley Country Club on October 28th. The event will feature a raffle\, contests and more. Join TD SYNNEX vendors\, associates and community partners for a fun-filled morning supporting Upstate South Carolina children and families in need. \nSponsorship Opportunities: Click here to view sponsorship opportunities
URL:https://www.tdsynnex.com/na/sharethemagic/event/td-synnex-share-the-magic-golf-tournament-south-carolina/
LOCATION:Green Valley Country Club\, 225 Green Valley Rd\, Greenville\, SC\, 29617\, United States
CATEGORIES:South Carolina
ATTACH;FMTTYPE=image/jpeg:https://www.tdsynnex.com/na/sharethemagic/wp-content/uploads/2022/03/golfbenefit-websitegraphics-04.jpg
END:VEVENT
END:VCALENDAR