BEGIN:VCALENDAR
VERSION:2.0
PRODID:-//TD SYNNEX Share the Magic - ECPv6.3.4//NONSGML v1.0//EN
CALSCALE:GREGORIAN
METHOD:PUBLISH
X-ORIGINAL-URL:https://www.tdsynnex.com/na/sharethemagic
X-WR-CALDESC:Events for TD SYNNEX Share the Magic
REFRESH-INTERVAL;VALUE=DURATION:PT1H
X-Robots-Tag:noindex
X-PUBLISHED-TTL:PT1H
BEGIN:VTIMEZONE
TZID:America/Halifax
BEGIN:DAYLIGHT
TZOFFSETFROM:-0400
TZOFFSETTO:-0300
TZNAME:ADT
DTSTART:20250309T060000
END:DAYLIGHT
BEGIN:STANDARD
TZOFFSETFROM:-0300
TZOFFSETTO:-0400
TZNAME:AST
DTSTART:20251102T050000
END:STANDARD
END:VTIMEZONE
BEGIN:VEVENT
DTSTART;VALUE=DATE:20251002
DTEND;VALUE=DATE:20251003
DTSTAMP:20260421T203654
CREATED:20250401T115448Z
LAST-MODIFIED:20250411T144226Z
UID:12855-1759363200-1759449599@www.tdsynnex.com
SUMMARY:TD SYNNEX Share the Magic Arizona Speakeasy Soiree
DESCRIPTION:The 3rd Annual TD SYNNEX Share the Magic Speakeasy Soiree will be held on October 2nd in Gilbert\, AZ. TD SYNNEX will bring their vendors\, customers\, local businesses and the community together for an inspiring evening to raise money for Special Olympics of Arizona and House of Refuge.\n \nSponsorship Opportunities
URL:https://www.tdsynnex.com/na/sharethemagic/event/td-synnex-share-the-magic-arizona-speakeasy-soiree/
CATEGORIES:Arizona
ATTACH;FMTTYPE=image/jpeg:https://www.tdsynnex.com/na/sharethemagic/wp-content/uploads/2025/04/TDSSTM-Banner25-AZ2.jpg
END:VEVENT
END:VCALENDAR