BEGIN:VCALENDAR
VERSION:2.0
PRODID:-//TD SYNNEX Share the Magic - ECPv6.3.4//NONSGML v1.0//EN
CALSCALE:GREGORIAN
METHOD:PUBLISH
X-WR-CALNAME:TD SYNNEX Share the Magic
X-ORIGINAL-URL:https://www.tdsynnex.com/na/sharethemagic
X-WR-CALDESC:Events for TD SYNNEX Share the Magic
REFRESH-INTERVAL;VALUE=DURATION:PT1H
X-Robots-Tag:noindex
X-PUBLISHED-TTL:PT1H
BEGIN:VTIMEZONE
TZID:America/Halifax
BEGIN:DAYLIGHT
TZOFFSETFROM:-0400
TZOFFSETTO:-0300
TZNAME:ADT
DTSTART:20240310T060000
END:DAYLIGHT
BEGIN:STANDARD
TZOFFSETFROM:-0300
TZOFFSETTO:-0400
TZNAME:AST
DTSTART:20241103T050000
END:STANDARD
END:VTIMEZONE
BEGIN:VEVENT
DTSTART;VALUE=DATE:20240921
DTEND;VALUE=DATE:20240922
DTSTAMP:20260423T064133
CREATED:20240709T161057Z
LAST-MODIFIED:20240822T180606Z
UID:12596-1726876800-1726963199@www.tdsynnex.com
SUMMARY:TD SYNNEX Share the Magic SC BMW Driving Experience
DESCRIPTION:Join us for an inaugural event bringing TD SYNNEX vendors\, customers and the community together for an ultimate driving experience at the BMW Performance Driving School. You and your team will spend the day behind the wheel of BMW vehicles as you embark on four thrilling track and offroad driving experiences. This thrilling event will conclude with an evening reception featuring raffle prizes\, live music and more! \nBenefiting A Child’s Haven\, Clement’s Kindness\, Make-A-Wish South Carolina and Pendleton Place. \nBe a part of this sponsorship opportunity.
URL:https://www.tdsynnex.com/na/sharethemagic/event/sc-bmw-driving-experience/
LOCATION:BMW Performance Center\, 1155 SC-101\, Greer\, 29651\, United States
CATEGORIES:South Carolina
ATTACH;FMTTYPE=image/png:https://www.tdsynnex.com/na/sharethemagic/wp-content/uploads/2024/07/TDSSTM-Banner-14.png
END:VEVENT
END:VCALENDAR