BEGIN:VCALENDAR
VERSION:2.0
PRODID:-//TD SYNNEX Share the Magic - ECPv6.3.4//NONSGML v1.0//EN
CALSCALE:GREGORIAN
METHOD:PUBLISH
X-ORIGINAL-URL:https://www.tdsynnex.com/na/sharethemagic
X-WR-CALDESC:Events for TD SYNNEX Share the Magic
REFRESH-INTERVAL;VALUE=DURATION:PT1H
X-Robots-Tag:noindex
X-PUBLISHED-TTL:PT1H
BEGIN:VTIMEZONE
TZID:America/Halifax
BEGIN:DAYLIGHT
TZOFFSETFROM:-0400
TZOFFSETTO:-0300
TZNAME:ADT
DTSTART:20250309T060000
END:DAYLIGHT
BEGIN:STANDARD
TZOFFSETFROM:-0300
TZOFFSETTO:-0400
TZNAME:AST
DTSTART:20251102T050000
END:STANDARD
END:VTIMEZONE
BEGIN:VEVENT
DTSTART;TZID=America/Halifax:20250927T173000
DTEND;TZID=America/Halifax:20250927T230000
DTSTAMP:20260422T023146
CREATED:20250117T210659Z
LAST-MODIFIED:20250411T142418Z
UID:12754-1758994200-1759014000@www.tdsynnex.com
SUMMARY:TD SYNNEX Share the Magic Celebration (South Carolina)
DESCRIPTION:The 15th Anniversary TD SYNNEX Share the Magic Celebration will be held on September 27th in Greenville\, SC at the Greenville Convention Center. TD SYNNEX will bring their vendors\, customers\, local Upstate businesses and the community together for an inspiring evening to raise money for children and families in need. The event will feature silent and live auctions\, cocktails\, hors d’oeuvres and special music entertainment.\n \nSponsorship Opportunities
URL:https://www.tdsynnex.com/na/sharethemagic/event/td-synnex-share-the-magic-celebration-south-carolina/
LOCATION:Greenville Convention Center\, 1 Exposition Drive\, Greenville\, SC\, 29601\, United States
CATEGORIES:South Carolina
ATTACH;FMTTYPE=image/png:https://www.tdsynnex.com/na/sharethemagic/wp-content/uploads/2025/04/TDSSTM-Banner25-SC-Gala-square.png
END:VEVENT
END:VCALENDAR