BEGIN:VCALENDAR
VERSION:2.0
PRODID:-//TD SYNNEX Share the Magic - ECPv6.3.4//NONSGML v1.0//EN
CALSCALE:GREGORIAN
METHOD:PUBLISH
X-WR-CALNAME:TD SYNNEX Share the Magic
X-ORIGINAL-URL:https://www.tdsynnex.com/na/sharethemagic
X-WR-CALDESC:Events for TD SYNNEX Share the Magic
REFRESH-INTERVAL;VALUE=DURATION:PT1H
X-Robots-Tag:noindex
X-PUBLISHED-TTL:PT1H
BEGIN:VTIMEZONE
TZID:America/Halifax
BEGIN:DAYLIGHT
TZOFFSETFROM:-0400
TZOFFSETTO:-0300
TZNAME:ADT
DTSTART:20240310T060000
END:DAYLIGHT
BEGIN:STANDARD
TZOFFSETFROM:-0300
TZOFFSETTO:-0400
TZNAME:AST
DTSTART:20241103T050000
END:STANDARD
END:VTIMEZONE
BEGIN:VEVENT
DTSTART;TZID=America/Halifax:20240626T173000
DTEND;TZID=America/Halifax:20240626T220000
DTSTAMP:20260423T150520
CREATED:20240408T121414Z
LAST-MODIFIED:20240409T195340Z
UID:12375-1719423000-1719439200@www.tdsynnex.com
SUMMARY:TD SYNNEX Share the Magic Day at the Drive
DESCRIPTION:The TD SYNNEX Share the Magic is teaming up with the Greenville Drive once again to help children in need. Host your partners\, associates\, friends and family for a fun night in the ballpark! \nAgenda:  \n\n6:00 p.m. – Gates Open\n6:30 p.m. – Charity Family Parade on Field\n7:05 p.m. – First Pitch\n\nPurchase Tickets
URL:https://www.tdsynnex.com/na/sharethemagic/event/td-synnex-share-the-magic-day-at-the-drive-2024/
LOCATION:Fluor Field\, 945 S Main St\, Greenville\, SC\, 29601\, United States
CATEGORIES:South Carolina
ATTACH;FMTTYPE=image/png:https://www.tdsynnex.com/na/sharethemagic/wp-content/uploads/2024/04/TDSSTM-Banner-06SCD.png
END:VEVENT
END:VCALENDAR