BEGIN:VCALENDAR
VERSION:2.0
PRODID:-//TD SYNNEX Share the Magic - ECPv6.3.4//NONSGML v1.0//EN
CALSCALE:GREGORIAN
METHOD:PUBLISH
X-ORIGINAL-URL:https://www.tdsynnex.com/na/sharethemagic
X-WR-CALDESC:Events for TD SYNNEX Share the Magic
REFRESH-INTERVAL;VALUE=DURATION:PT1H
X-Robots-Tag:noindex
X-PUBLISHED-TTL:PT1H
BEGIN:VTIMEZONE
TZID:America/Halifax
BEGIN:DAYLIGHT
TZOFFSETFROM:-0400
TZOFFSETTO:-0300
TZNAME:ADT
DTSTART:20240310T060000
END:DAYLIGHT
BEGIN:STANDARD
TZOFFSETFROM:-0300
TZOFFSETTO:-0400
TZNAME:AST
DTSTART:20241103T050000
END:STANDARD
END:VTIMEZONE
BEGIN:VEVENT
DTSTART;VALUE=DATE:20240826
DTEND;VALUE=DATE:20240827
DTSTAMP:20260423T082741
CREATED:20240709T155506Z
LAST-MODIFIED:20240709T161503Z
UID:12586-1724630400-1724716799@www.tdsynnex.com
SUMMARY:TD SYNNEX Share the Magic Golf Tournament (South Carolina)
DESCRIPTION:Join TD SYNNEX associates\, vendors\, partners and community friends at the annual TD SYNNEX Share the Magic South Carolina Golf Tournament at Thornblade Club for a day of golf\, networking and fun supporting A Child’s Haven\, Clement’s Kindness\, Make-A-Wish South Carolina and Pendleton Place. \nBe a part of this sponsorship opportunity.
URL:https://www.tdsynnex.com/na/sharethemagic/event/td-synnex-share-the-magic-golf-tournament-south-carolina-2024/
LOCATION:Thornblade Club\, 1275 Thornblade Blvd\, Greer\, SC\, 29650\, United States
CATEGORIES:South Carolina
ATTACH;FMTTYPE=image/png:https://www.tdsynnex.com/na/sharethemagic/wp-content/uploads/2024/07/TDSSTM-Banner-16.png
END:VEVENT
END:VCALENDAR