BEGIN:VCALENDAR
VERSION:2.0
PRODID:-//TD SYNNEX Share the Magic - ECPv6.3.4//NONSGML v1.0//EN
CALSCALE:GREGORIAN
METHOD:PUBLISH
X-ORIGINAL-URL:https://www.tdsynnex.com/na/sharethemagic
X-WR-CALDESC:Events for TD SYNNEX Share the Magic
REFRESH-INTERVAL;VALUE=DURATION:PT1H
X-Robots-Tag:noindex
X-PUBLISHED-TTL:PT1H
BEGIN:VTIMEZONE
TZID:America/Halifax
BEGIN:DAYLIGHT
TZOFFSETFROM:-0400
TZOFFSETTO:-0300
TZNAME:ADT
DTSTART:20210314T060000
END:DAYLIGHT
BEGIN:STANDARD
TZOFFSETFROM:-0300
TZOFFSETTO:-0400
TZNAME:AST
DTSTART:20211107T050000
END:STANDARD
BEGIN:DAYLIGHT
TZOFFSETFROM:-0400
TZOFFSETTO:-0300
TZNAME:ADT
DTSTART:20220313T060000
END:DAYLIGHT
BEGIN:STANDARD
TZOFFSETFROM:-0300
TZOFFSETTO:-0400
TZNAME:AST
DTSTART:20221106T050000
END:STANDARD
END:VTIMEZONE
BEGIN:VEVENT
DTSTART;TZID=America/Halifax:20220910T070000
DTEND;TZID=America/Halifax:20220910T190000
DTSTAMP:20260421T133205
CREATED:20220309T194809Z
LAST-MODIFIED:20220517T144300Z
UID:11554-1662793200-1662836400@www.tdsynnex.com
SUMMARY:TD SYNNEX Share the Magic Golf Tournament (South Carolina)
DESCRIPTION:« All Events\n \n\n \nPlease join us for the 2022 TD SYNNEX Share the Magic Golf Tournament on Saturday\, September 10\, at Green Valley for a day of golf\, networking\, and fun. \nAgenda: \n\n7:00 am – Breakfast\n8:00 am – Shotgun Start – Group 1\n1:00 pm – Lunch\n2:00 pm – Shotgun Start – Group 2\n\nSponsorship Opportunities: Click here to view sponsorship opportunities
URL:https://www.tdsynnex.com/na/sharethemagic/event/td-synnex-share-the-magic-golf-tournament/
LOCATION:Green Valley Country Club\, 225 Green Valley Rd\, Greenville\, SC\, 29617\, United States
CATEGORIES:South Carolina
ATTACH;FMTTYPE=image/jpeg:https://www.tdsynnex.com/na/sharethemagic/wp-content/uploads/2022/03/golfbenefit-websitegraphics-04.jpg
END:VEVENT
BEGIN:VEVENT
DTSTART;TZID=America/Halifax:20220909T220000
DTEND;TZID=America/Halifax:20220916T160000
DTSTAMP:20260421T133205
CREATED:20220811T200516Z
LAST-MODIFIED:20220909T143847Z
UID:11796-1662760800-1663344000@www.tdsynnex.com
SUMMARY:J.L. Mann High School Spirit Week Benefitting TD SYNNEX Share the Magic
DESCRIPTION:« All Events \n \n\nTD SYNNEX Share the Magic is proud to be the 2022 J.L. Mann High School Spirit Week beneficiary! \n\nSpirit Week is an annual week-long campaign in which Greenville\, South Carolina high schools compete to raise the most money (often hundreds of thousands of dollars) in support of local charities. \n\nThis year\, the J.L. Mann Student Council has planned a multitude of community events to raise money for TD SYNNEX Share the Magic South Carolina charities\, with plans to beat their rival school\, Greenville High\, by raising the most funds. \n\nJoin us in supporting J.L. Mann’s efforts to Share the Magic this Spirit Week! \n\nClick here to learn more about the 2022 J.L. Mann Spirit Week Events and Opportunities. \n\nSponsor or Donate – Make a sponsorship payment or donation by clicking here and designating “J.L. Mann Spirit Week” in the (optional) memo box.
URL:https://www.tdsynnex.com/na/sharethemagic/event/j-l-mann-high-school-spirit-week-benefitting-td-synnex-share-the-magic/
LOCATION:JL Mann High School\, 160 Fairforest Way\, Greenville\, SC\, 29607\, United States
CATEGORIES:South Carolina
ATTACH;FMTTYPE=image/jpeg:https://www.tdsynnex.com/na/sharethemagic/wp-content/uploads/2022/08/JLMann-Thumbnail.jpeg
END:VEVENT
BEGIN:VEVENT
DTSTART;TZID=America/Halifax:20211023T070000
DTEND;TZID=America/Halifax:20211023T190000
DTSTAMP:20260421T133205
CREATED:20210830T162427Z
LAST-MODIFIED:20211208T220857Z
UID:9767-1634972400-1635015600@www.tdsynnex.com
SUMMARY:TD SYNNEX Share the Magic Charity Golf Tournament
DESCRIPTION:« All Events\n \n\n \nPlease join us for the 2021 TD SYNNEX Share the Magic Golf Tournament on Saturday\, October 23rd\, at Green Valley for a day of golf\, networking\, and fun. \nAgenda: \n\n7:00 am – Breakfast\n8:00 am – Shotgun Start – Group 1\n1:00 pm – Lunch\n2:00 pm – Shotgun Start – Group 2\n7:00 pm – 19th Hole Reception\n\nSponsorship Opportunities: (Sign-up form below or click here to download PDF form) \n\n \n[gravityform id=”7″ title=”true” description=”true”]
URL:https://www.tdsynnex.com/na/sharethemagic/event/td-synnex-share-the-magic-charity-golf-tournament/
LOCATION:Green Valley Country Club\, 225 Green Valley Rd\, Greenville\, SC\, 29617\, United States
CATEGORIES:South Carolina
ATTACH;FMTTYPE=image/jpeg:https://www.tdsynnex.com/na/sharethemagic/wp-content/uploads/2021/08/STM-Golf-Benefit-2020-nd.jpeg
END:VEVENT
BEGIN:VEVENT
DTSTART;TZID=America/Halifax:20211009T173000
DTEND;TZID=America/Halifax:20211009T210000
DTSTAMP:20260421T133205
CREATED:20210830T144637Z
LAST-MODIFIED:20220309T182122Z
UID:9645-1633800600-1633813200@www.tdsynnex.com
SUMMARY:TD SYNNEX Share the Magic Celebration at Hartness
DESCRIPTION:« All Events \n \nThe 11th Annual TD SYNNEX Share the Magic Celebration will be an event like no other! Join us on Saturday\, October 9th\, at Hartness Estate for a casual evening filled with fun games\, food trucks\, silent and live auctions\, and entertainment by Party on the Moon. \nAgenda: \n\n5:30 pm – Arrival\, Food Trucks and Hors d’oeuvres\, Cocktails and Games\n7:30 pm – Program and Live Auction\n8:30 pm – Performance by Party on the Moon\n\nSponsorship Opportunities: Click here to view sponsorship opportunities
URL:https://www.tdsynnex.com/na/sharethemagic/event/td-synnex-share-the-magic-celebration-at-hartness/
LOCATION:Grand Lawn at Hartness\, 300 Smith Road\, Greenville\, SC\, 29615\, United States
CATEGORIES:South Carolina
ATTACH;FMTTYPE=image/jpeg:https://www.tdsynnex.com/na/sharethemagic/wp-content/uploads/2021/08/SSTM-2021-Celebration-Hartness.jpeg
END:VEVENT
END:VCALENDAR