BEGIN:VCALENDAR
VERSION:2.0
PRODID:-//TD SYNNEX Share the Magic - ECPv6.3.4//NONSGML v1.0//EN
CALSCALE:GREGORIAN
METHOD:PUBLISH
X-WR-CALNAME:TD SYNNEX Share the Magic
X-ORIGINAL-URL:https://www.tdsynnex.com/na/sharethemagic
X-WR-CALDESC:Events for TD SYNNEX Share the Magic
REFRESH-INTERVAL;VALUE=DURATION:PT1H
X-Robots-Tag:noindex
X-PUBLISHED-TTL:PT1H
BEGIN:VTIMEZONE
TZID:America/Los_Angeles
BEGIN:DAYLIGHT
TZOFFSETFROM:-0800
TZOFFSETTO:-0700
TZNAME:PDT
DTSTART:20220313T100000
END:DAYLIGHT
BEGIN:STANDARD
TZOFFSETFROM:-0700
TZOFFSETTO:-0800
TZNAME:PST
DTSTART:20221106T090000
END:STANDARD
END:VTIMEZONE
BEGIN:VEVENT
DTSTART;TZID=America/Los_Angeles:20220519T090000
DTEND;TZID=America/Los_Angeles:20220519T170000
DTSTAMP:20260424T235235
CREATED:20220309T195943Z
LAST-MODIFIED:20220517T145451Z
UID:11556-1652950800-1652979600@www.tdsynnex.com
SUMMARY:TD SYNNEX Share the Magic Golf Tournament (Bay Area)
DESCRIPTION:« All Events\n \n\n \nPlease join us for the 2022 Bay Area TD SYNNEX Share the Magic Golf Tournament on Thursday\, May 19\, at Cordevalle Golf Club for a day of golf\, networking\, and fun. \nAgenda: \n\n9:00 am – Registration\n10:00 am – 12:30 pm – Tee Times\n\nSponsorship Opportunities: Click here to view sponsorship opportunities
URL:https://www.tdsynnex.com/na/sharethemagic/event/td-synnex-share-the-magic-golf-tournament-bay-area/
LOCATION:Cordevalle Golf Club\, 1 Cordevalle Club Drive\, San Martin\, CA\, 95046\, United States
CATEGORIES:California
ATTACH;FMTTYPE=image/jpeg:https://www.tdsynnex.com/na/sharethemagic/wp-content/uploads/2022/03/golfbenefit-websitegraphics-03.jpg
END:VEVENT
END:VCALENDAR