BEGIN:VCALENDAR
VERSION:2.0
PRODID:-//TD SYNNEX Share the Magic - ECPv6.3.4//NONSGML v1.0//EN
CALSCALE:GREGORIAN
METHOD:PUBLISH
X-WR-CALNAME:TD SYNNEX Share the Magic
X-ORIGINAL-URL:https://www.tdsynnex.com/na/sharethemagic
X-WR-CALDESC:Events for TD SYNNEX Share the Magic
REFRESH-INTERVAL;VALUE=DURATION:PT1H
X-Robots-Tag:noindex
X-PUBLISHED-TTL:PT1H
BEGIN:VTIMEZONE
TZID:America/Halifax
BEGIN:DAYLIGHT
TZOFFSETFROM:-0400
TZOFFSETTO:-0300
TZNAME:ADT
DTSTART:20220313T060000
END:DAYLIGHT
BEGIN:STANDARD
TZOFFSETFROM:-0300
TZOFFSETTO:-0400
TZNAME:AST
DTSTART:20221106T050000
END:STANDARD
END:VTIMEZONE
BEGIN:VEVENT
DTSTART;TZID=America/Halifax:20221008T173000
DTEND;TZID=America/Halifax:20221008T210000
DTSTAMP:20260424T145929
CREATED:20220309T193425Z
LAST-MODIFIED:20220309T193425Z
UID:11540-1665250200-1665262800@www.tdsynnex.com
SUMMARY:TD SYNNEX Share the Magic Celebration at Hartness
DESCRIPTION:« All Events \n \nThe 12th Annual TD SYNNEX Share the Magic Celebration will be an event like no other! Join us on Saturday\, October 8th\, at Hartness Estate for a casual evening filled with silent and live auctions\, heavy hors d’oeuvres and entertainment by party band\, Simply Irresistible. \nAgenda: \n\n5:30 pm – Arrival\, Hors d’oeuvres and Cocktails \n7:30 pm – Program and Live Auction\n8:30 pm – Performance by Simply Irresistible\n\nSponsorship Opportunities: Click here to view sponsorship opportunities
URL:https://www.tdsynnex.com/na/sharethemagic/event/td-synnex-share-the-magic-celebration-at-hartness-2/
LOCATION:Grand Lawn at Hartness\, 300 Smith Road\, Greenville\, SC\, 29615\, United States
CATEGORIES:South Carolina
ATTACH;FMTTYPE=image/jpeg:https://www.tdsynnex.com/na/sharethemagic/wp-content/uploads/2022/03/Hartness22-Square.jpg
END:VEVENT
END:VCALENDAR