BEGIN:VCALENDAR
VERSION:2.0
PRODID:-//TD SYNNEX Share the Magic - ECPv6.3.4//NONSGML v1.0//EN
CALSCALE:GREGORIAN
METHOD:PUBLISH
X-WR-CALNAME:TD SYNNEX Share the Magic
X-ORIGINAL-URL:https://www.tdsynnex.com/na/sharethemagic
X-WR-CALDESC:Events for TD SYNNEX Share the Magic
REFRESH-INTERVAL;VALUE=DURATION:PT1H
X-Robots-Tag:noindex
X-PUBLISHED-TTL:PT1H
BEGIN:VTIMEZONE
TZID:America/Halifax
BEGIN:DAYLIGHT
TZOFFSETFROM:-0400
TZOFFSETTO:-0300
TZNAME:ADT
DTSTART:20240310T060000
END:DAYLIGHT
BEGIN:STANDARD
TZOFFSETFROM:-0300
TZOFFSETTO:-0400
TZNAME:AST
DTSTART:20241103T050000
END:STANDARD
BEGIN:DAYLIGHT
TZOFFSETFROM:-0400
TZOFFSETTO:-0300
TZNAME:ADT
DTSTART:20250309T060000
END:DAYLIGHT
BEGIN:STANDARD
TZOFFSETFROM:-0300
TZOFFSETTO:-0400
TZNAME:AST
DTSTART:20251102T050000
END:STANDARD
END:VTIMEZONE
BEGIN:VEVENT
DTSTART;VALUE=DATE:20250922
DTEND;VALUE=DATE:20250923
DTSTAMP:20260421T132841
CREATED:20250117T212548Z
LAST-MODIFIED:20250430T141927Z
UID:12770-1758499200-1758585599@www.tdsynnex.com
SUMMARY:TD SYNNEX Share the Magic Golf Tournament (Illinois)
DESCRIPTION:Join TD SYNNEX associates\, vendors\, partners and community friends at the Illinois Golf Tournament for a day of golf\, networking and fun supporting Clearbrook and Fox Valley Special Recreation Association. \nSponsorship Opportunities
URL:https://www.tdsynnex.com/na/sharethemagic/event/td-synnex-share-the-magic-golf-tournament-illinois-3/
LOCATION:Cantigny Golf Club\, 27W270 Mack Rd.\, Wheaton\, IL\, 60189\, United States
CATEGORIES:Illinois
ATTACH;FMTTYPE=image/jpeg:https://www.tdsynnex.com/na/sharethemagic/wp-content/uploads/2025/04/TDSSTM-Banner25-IL2.jpg
END:VEVENT
BEGIN:VEVENT
DTSTART;VALUE=DATE:20240923
DTEND;VALUE=DATE:20240924
DTSTAMP:20260421T132841
CREATED:20240409T190913Z
LAST-MODIFIED:20240419T201851Z
UID:12377-1727049600-1727135999@www.tdsynnex.com
SUMMARY:TD SYNNEX Share the Magic Golf Tournament (Illinois)
DESCRIPTION:Join TD SYNNEX associates\, vendors\, partners and community friends at the TD SYNNEX Share the Magic Illinois Golf Tournament for a day of golf\, networking and fun supporting the Clearbrook\, Fox Valley Special Recreation Association and Little Friends. \nSponsorship Opportunities
URL:https://www.tdsynnex.com/na/sharethemagic/event/td-synnex-share-the-magic-golf-tournament-illinois-2024/
LOCATION:Cantigny Golf Club\, 27W270 Mack Rd.\, Wheaton\, IL\, 60189\, United States
CATEGORIES:Illinois
ATTACH;FMTTYPE=image/png:https://www.tdsynnex.com/na/sharethemagic/wp-content/uploads/2024/04/TDSSTM-Banner-08IL.png
END:VEVENT
END:VCALENDAR