BEGIN:VCALENDAR
VERSION:2.0
PRODID:-//TD SYNNEX Share the Magic - ECPv6.3.4//NONSGML v1.0//EN
CALSCALE:GREGORIAN
METHOD:PUBLISH
X-WR-CALNAME:TD SYNNEX Share the Magic
X-ORIGINAL-URL:https://www.tdsynnex.com/na/sharethemagic
X-WR-CALDESC:Events for TD SYNNEX Share the Magic
REFRESH-INTERVAL;VALUE=DURATION:PT1H
X-Robots-Tag:noindex
X-PUBLISHED-TTL:PT1H
BEGIN:VTIMEZONE
TZID:America/Halifax
BEGIN:DAYLIGHT
TZOFFSETFROM:-0400
TZOFFSETTO:-0300
TZNAME:ADT
DTSTART:20230312T060000
END:DAYLIGHT
BEGIN:STANDARD
TZOFFSETFROM:-0300
TZOFFSETTO:-0400
TZNAME:AST
DTSTART:20231105T050000
END:STANDARD
BEGIN:DAYLIGHT
TZOFFSETFROM:-0400
TZOFFSETTO:-0300
TZNAME:ADT
DTSTART:20240310T060000
END:DAYLIGHT
BEGIN:STANDARD
TZOFFSETFROM:-0300
TZOFFSETTO:-0400
TZNAME:AST
DTSTART:20241103T050000
END:STANDARD
BEGIN:DAYLIGHT
TZOFFSETFROM:-0400
TZOFFSETTO:-0300
TZNAME:ADT
DTSTART:20250309T060000
END:DAYLIGHT
BEGIN:STANDARD
TZOFFSETFROM:-0300
TZOFFSETTO:-0400
TZNAME:AST
DTSTART:20251102T050000
END:STANDARD
TZID:America/Los_Angeles
BEGIN:DAYLIGHT
TZOFFSETFROM:-0800
TZOFFSETTO:-0700
TZNAME:PDT
DTSTART:20220313T100000
END:DAYLIGHT
BEGIN:STANDARD
TZOFFSETFROM:-0700
TZOFFSETTO:-0800
TZNAME:PST
DTSTART:20221106T090000
END:STANDARD
END:VTIMEZONE
BEGIN:VEVENT
DTSTART;VALUE=DATE:20250417
DTEND;VALUE=DATE:20250418
DTSTAMP:20260419T182539
CREATED:20250401T113403Z
LAST-MODIFIED:20250411T143306Z
UID:12838-1744848000-1744934399@www.tdsynnex.com
SUMMARY:TD SYNNEX Share the Magic Golf Tournament (California)
DESCRIPTION:The TD SYNNEX Share the Magic California Bay Area chapter will host its fourth annual golf tournament on April 17 at CordeValle Golf Club in San Martin\, California.  \nYou will not want to miss this opportunity to play at one of the Bay Area’s most prestigious golf courses supporting the Aubri Brown Club and Make-A-Wish Bay Area.\n \nSponsorship Opportunities
URL:https://www.tdsynnex.com/na/sharethemagic/event/td-synnex-share-the-magic-golf-tournament-california-2/
LOCATION:Cordevalle Golf Club\, 1 Cordevalle Club Drive\, San Martin\, CA\, 95046\, United States
CATEGORIES:California
ATTACH;FMTTYPE=image/png:https://www.tdsynnex.com/na/sharethemagic/wp-content/uploads/2025/04/TDSSTM-Banner25-CA-square.png
END:VEVENT
BEGIN:VEVENT
DTSTART;VALUE=DATE:20240321
DTEND;VALUE=DATE:20240322
DTSTAMP:20260419T182539
CREATED:20240409T200034Z
LAST-MODIFIED:20240409T200034Z
UID:12465-1710979200-1711065599@www.tdsynnex.com
SUMMARY:TD SYNNEX Share the Magic Golf Tournament (California)
DESCRIPTION:The TD SYNNEX Share the Magic Bay Area chapter will host its third annual golf tournament on March 21 at CordeValle Golf Club in San Martin\, California. You will not want to miss this opportunity to play at one of the Bay Area’s most prestigious golf courses and support children in need. \nSponsorship Opportunities
URL:https://www.tdsynnex.com/na/sharethemagic/event/td-synnex-share-the-magic-golf-tournament-california/
LOCATION:Cordevalle Golf Club\, 1 Cordevalle Club Drive\, San Martin\, CA\, 95046\, United States
CATEGORIES:California
ATTACH;FMTTYPE=image/jpeg:https://www.tdsynnex.com/na/sharethemagic/wp-content/uploads/2022/03/golfbenefit-websitegraphics-03.jpg
END:VEVENT
BEGIN:VEVENT
DTSTART;TZID=America/Halifax:20230417T090000
DTEND;TZID=America/Halifax:20230417T170000
DTSTAMP:20260419T182539
CREATED:20230406T185903Z
LAST-MODIFIED:20230407T133845Z
UID:12139-1681722000-1681750800@www.tdsynnex.com
SUMMARY:TD SYNNEX Share the Magic Golf Tournament (Bay Area)
DESCRIPTION:« All Events\n \n\n \nThe TD SYNNEX Share the Magic Bay Area chapter will host its second annual golf tournament on Monday\, April 17th at CordeValle Golf Club in San Martin\, CA. You will not want to miss this opportunity to play at one of the Bay Area’s most prestigious golf courses and support children in need. \nSponsorship Opportunities: Click here to view sponsorship opportunities
URL:https://www.tdsynnex.com/na/sharethemagic/event/td-synnex-share-the-magic-golf-tournament-bay-area-2/
LOCATION:Cordevalle Golf Club\, 1 Cordevalle Club Drive\, San Martin\, CA\, 95046\, United States
CATEGORIES:California
ATTACH;FMTTYPE=image/jpeg:https://www.tdsynnex.com/na/sharethemagic/wp-content/uploads/2022/03/golfbenefit-websitegraphics-03.jpg
END:VEVENT
BEGIN:VEVENT
DTSTART;TZID=America/Los_Angeles:20220519T090000
DTEND;TZID=America/Los_Angeles:20220519T170000
DTSTAMP:20260419T182539
CREATED:20220309T195943Z
LAST-MODIFIED:20220517T145451Z
UID:11556-1652950800-1652979600@www.tdsynnex.com
SUMMARY:TD SYNNEX Share the Magic Golf Tournament (Bay Area)
DESCRIPTION:« All Events\n \n\n \nPlease join us for the 2022 Bay Area TD SYNNEX Share the Magic Golf Tournament on Thursday\, May 19\, at Cordevalle Golf Club for a day of golf\, networking\, and fun. \nAgenda: \n\n9:00 am – Registration\n10:00 am – 12:30 pm – Tee Times\n\nSponsorship Opportunities: Click here to view sponsorship opportunities
URL:https://www.tdsynnex.com/na/sharethemagic/event/td-synnex-share-the-magic-golf-tournament-bay-area/
LOCATION:Cordevalle Golf Club\, 1 Cordevalle Club Drive\, San Martin\, CA\, 95046\, United States
CATEGORIES:California
ATTACH;FMTTYPE=image/jpeg:https://www.tdsynnex.com/na/sharethemagic/wp-content/uploads/2022/03/golfbenefit-websitegraphics-03.jpg
END:VEVENT
END:VCALENDAR