BEGIN:VCALENDAR
VERSION:2.0
PRODID:-//TD SYNNEX Share the Magic - ECPv6.3.4//NONSGML v1.0//EN
CALSCALE:GREGORIAN
METHOD:PUBLISH
X-WR-CALNAME:TD SYNNEX Share the Magic
X-ORIGINAL-URL:https://www.tdsynnex.com/na/sharethemagic
X-WR-CALDESC:Events for TD SYNNEX Share the Magic
REFRESH-INTERVAL;VALUE=DURATION:PT1H
X-Robots-Tag:noindex
X-PUBLISHED-TTL:PT1H
BEGIN:VTIMEZONE
TZID:America/Halifax
BEGIN:DAYLIGHT
TZOFFSETFROM:-0400
TZOFFSETTO:-0300
TZNAME:ADT
DTSTART:20230312T060000
END:DAYLIGHT
BEGIN:STANDARD
TZOFFSETFROM:-0300
TZOFFSETTO:-0400
TZNAME:AST
DTSTART:20231105T050000
END:STANDARD
BEGIN:DAYLIGHT
TZOFFSETFROM:-0400
TZOFFSETTO:-0300
TZNAME:ADT
DTSTART:20240310T060000
END:DAYLIGHT
BEGIN:STANDARD
TZOFFSETFROM:-0300
TZOFFSETTO:-0400
TZNAME:AST
DTSTART:20241103T050000
END:STANDARD
BEGIN:DAYLIGHT
TZOFFSETFROM:-0400
TZOFFSETTO:-0300
TZNAME:ADT
DTSTART:20250309T060000
END:DAYLIGHT
BEGIN:STANDARD
TZOFFSETFROM:-0300
TZOFFSETTO:-0400
TZNAME:AST
DTSTART:20251102T050000
END:STANDARD
END:VTIMEZONE
BEGIN:VEVENT
DTSTART;TZID=America/Halifax:20250617T173000
DTEND;TZID=America/Halifax:20250617T220000
DTSTAMP:20260419T202122
CREATED:20250117T202326Z
LAST-MODIFIED:20250411T142844Z
UID:12735-1750181400-1750197600@www.tdsynnex.com
SUMMARY:TD SYNNEX Share the Magic Day at the Drive (South Carolina)
DESCRIPTION:TD SYNNEX Share the Magic is teaming up with the Greenville Drive once again to help children in need. Host your partners\, associates\, friends and family for a fun night in the ballpark! \nAgenda:  \n\n5:45 p.m. – Gates Open\n6:10 p.m. – Charity Family Parade on Field\n6:45 p.m. – First Pitch\n\nEmail Eleanor Kneeland at eleanork@hughes-agency.com to secure a suite or custom ticket package. \nPurchase Tickets
URL:https://www.tdsynnex.com/na/sharethemagic/event/td-synnex-share-the-magic-day-at-the-drive-sc/
LOCATION:Fluor Field\, 945 S Main St\, Greenville\, SC\, 29601\, United States
CATEGORIES:South Carolina
ATTACH;FMTTYPE=image/png:https://www.tdsynnex.com/na/sharethemagic/wp-content/uploads/2025/04/TDSSTM-Banner25-SCDATD-06.png
END:VEVENT
BEGIN:VEVENT
DTSTART;TZID=America/Halifax:20241012T173000
DTEND;TZID=America/Halifax:20241012T230000
DTSTAMP:20260419T202122
CREATED:20240409T153438Z
LAST-MODIFIED:20240409T195333Z
UID:12374-1728754200-1728774000@www.tdsynnex.com
SUMMARY:TD SYNNEX Share the Magic Celebration
DESCRIPTION:The 14th annual TD SYNNEX Share the Magic Celebration will be held on October 12th in Greenville\, South Carolina. TD SYNNEX will bring its vendors\, customers\, local Upstate businesses and the community together for an inspiring evening to raise money for children and families in need. The event will feature silent and live auctions\, cocktails\, hors d’ oeuvres and special music entertainment. \n\nThe event will begin with cocktails and elevated ballpark-style meal stations before we take our seats for an on-field program presentation and live auction. Be sure to stay after the program and celebrate this grand-slam event dancing with the premier band\, Party on the Moon!\n \nSponsorship Opportunities
URL:https://www.tdsynnex.com/na/sharethemagic/event/td-synnex-share-the-magic-celebration/
LOCATION:Fluor Field\, 945 S Main St\, Greenville\, SC\, 29601\, United States
CATEGORIES:South Carolina
ATTACH;FMTTYPE=image/png:https://www.tdsynnex.com/na/sharethemagic/wp-content/uploads/2024/04/TDSSTM-Banner-04SC.png
END:VEVENT
BEGIN:VEVENT
DTSTART;TZID=America/Halifax:20240626T173000
DTEND;TZID=America/Halifax:20240626T220000
DTSTAMP:20260419T202122
CREATED:20240408T121414Z
LAST-MODIFIED:20240409T195340Z
UID:12375-1719423000-1719439200@www.tdsynnex.com
SUMMARY:TD SYNNEX Share the Magic Day at the Drive
DESCRIPTION:The TD SYNNEX Share the Magic is teaming up with the Greenville Drive once again to help children in need. Host your partners\, associates\, friends and family for a fun night in the ballpark! \nAgenda:  \n\n6:00 p.m. – Gates Open\n6:30 p.m. – Charity Family Parade on Field\n7:05 p.m. – First Pitch\n\nPurchase Tickets
URL:https://www.tdsynnex.com/na/sharethemagic/event/td-synnex-share-the-magic-day-at-the-drive-2024/
LOCATION:Fluor Field\, 945 S Main St\, Greenville\, SC\, 29601\, United States
CATEGORIES:South Carolina
ATTACH;FMTTYPE=image/png:https://www.tdsynnex.com/na/sharethemagic/wp-content/uploads/2024/04/TDSSTM-Banner-06SCD.png
END:VEVENT
BEGIN:VEVENT
DTSTART;TZID=America/Halifax:20230719T173000
DTEND;TZID=America/Halifax:20230719T230000
DTSTAMP:20260419T202122
CREATED:20230406T150442Z
LAST-MODIFIED:20230406T165831Z
UID:12100-1689787800-1689807600@www.tdsynnex.com
SUMMARY:TD SYNNEX Share the Magic Day at the Drive
DESCRIPTION:« All Events \n \nTD SYNNEX Share the Magic is teaming up with the Greenville Drive once again to help children in need. Host your partners\, associates\, friends and family for a fun night in the ballpark! \nAgenda: \n\n6:00 pm – Gates Open\n6:30 pm – Charity Family Parade on Field\n7:05 pm – First Pitch\n\nA portion of all tickets sold will support TD SYNNEX Share the Magic.\nPurchase Tickets: here
URL:https://www.tdsynnex.com/na/sharethemagic/event/td-synnex-share-the-magic-day-at-the-drive/
LOCATION:Fluor Field\, 945 S Main St\, Greenville\, SC\, 29601\, United States
CATEGORIES:South Carolina
ATTACH;FMTTYPE=image/png:https://www.tdsynnex.com/na/sharethemagic/wp-content/uploads/2023/04/TDSSTM_DayAtTheDrive_Featured.png
END:VEVENT
END:VCALENDAR