BEGIN:VCALENDAR
VERSION:2.0
PRODID:-//TD SYNNEX Share the Magic - ECPv6.3.4//NONSGML v1.0//EN
CALSCALE:GREGORIAN
METHOD:PUBLISH
X-WR-CALNAME:TD SYNNEX Share the Magic
X-ORIGINAL-URL:https://www.tdsynnex.com/na/sharethemagic
X-WR-CALDESC:Events for TD SYNNEX Share the Magic
REFRESH-INTERVAL;VALUE=DURATION:PT1H
X-Robots-Tag:noindex
X-PUBLISHED-TTL:PT1H
BEGIN:VTIMEZONE
TZID:America/Halifax
BEGIN:DAYLIGHT
TZOFFSETFROM:-0400
TZOFFSETTO:-0300
TZNAME:ADT
DTSTART:20210314T060000
END:DAYLIGHT
BEGIN:STANDARD
TZOFFSETFROM:-0300
TZOFFSETTO:-0400
TZNAME:AST
DTSTART:20211107T050000
END:STANDARD
BEGIN:DAYLIGHT
TZOFFSETFROM:-0400
TZOFFSETTO:-0300
TZNAME:ADT
DTSTART:20220313T060000
END:DAYLIGHT
BEGIN:STANDARD
TZOFFSETFROM:-0300
TZOFFSETTO:-0400
TZNAME:AST
DTSTART:20221106T050000
END:STANDARD
BEGIN:DAYLIGHT
TZOFFSETFROM:-0400
TZOFFSETTO:-0300
TZNAME:ADT
DTSTART:20230312T060000
END:DAYLIGHT
BEGIN:STANDARD
TZOFFSETFROM:-0300
TZOFFSETTO:-0400
TZNAME:AST
DTSTART:20231105T050000
END:STANDARD
END:VTIMEZONE
BEGIN:VEVENT
DTSTART;TZID=America/Halifax:20231007T173000
DTEND;TZID=America/Halifax:20231007T230000
DTSTAMP:20260419T161039
CREATED:20230406T163634Z
LAST-MODIFIED:20230406T163634Z
UID:12110-1696699800-1696719600@www.tdsynnex.com
SUMMARY:TD SYNNEX Share the Magic Celebration at Hartness
DESCRIPTION:« All Events \n \nThe 13th Annual TD SYNNEX Share the Magic Celebration will be held on October 7th in Greenville\, SC. TD SYNNEX will bring their vendors\, customers\, local Upstate businesses and the community together for an inspiring evening to raise money for children and families in need. The event will feature silent and live auctions\, cocktails\, hors d’oeuvres and special music entertainment by one of America’s hottest party bands\, Party on the Moon. \nJoin us for a celebration bringing the west coast to the east coast. Acknowledging the presence and fundraising efforts of TD SYNNEX across the United States and Canada\, we are going to bring a little bit of California to South Carolina. This flagship celebration evening will begin with cocktails\, wine service and meal stations in a vineyard-like courtyard setting moving to a grand structure for our auction\, presentation program and dancing with the premier band\, Party on the Moon.\n \nSponsorship Opportunities: Click here to view sponsorship opportunities \n<
URL:https://www.tdsynnex.com/na/sharethemagic/event/td-synnex-share-the-magic-celebration-at-hartness-3/
LOCATION:Grand Lawn at Hartness\, 300 Smith Road\, Greenville\, SC\, 29615\, United States
CATEGORIES:South Carolina
ATTACH;FMTTYPE=image/png:https://www.tdsynnex.com/na/sharethemagic/wp-content/uploads/2023/04/TDSSTM_2023Celebration_Featured.png
END:VEVENT
BEGIN:VEVENT
DTSTART;TZID=America/Halifax:20221008T173000
DTEND;TZID=America/Halifax:20221008T210000
DTSTAMP:20260419T161039
CREATED:20220309T193425Z
LAST-MODIFIED:20220309T193425Z
UID:11540-1665250200-1665262800@www.tdsynnex.com
SUMMARY:TD SYNNEX Share the Magic Celebration at Hartness
DESCRIPTION:« All Events \n \nThe 12th Annual TD SYNNEX Share the Magic Celebration will be an event like no other! Join us on Saturday\, October 8th\, at Hartness Estate for a casual evening filled with silent and live auctions\, heavy hors d’oeuvres and entertainment by party band\, Simply Irresistible. \nAgenda: \n\n5:30 pm – Arrival\, Hors d’oeuvres and Cocktails \n7:30 pm – Program and Live Auction\n8:30 pm – Performance by Simply Irresistible\n\nSponsorship Opportunities: Click here to view sponsorship opportunities
URL:https://www.tdsynnex.com/na/sharethemagic/event/td-synnex-share-the-magic-celebration-at-hartness-2/
LOCATION:Grand Lawn at Hartness\, 300 Smith Road\, Greenville\, SC\, 29615\, United States
CATEGORIES:South Carolina
ATTACH;FMTTYPE=image/jpeg:https://www.tdsynnex.com/na/sharethemagic/wp-content/uploads/2022/03/Hartness22-Square.jpg
END:VEVENT
BEGIN:VEVENT
DTSTART;TZID=America/Halifax:20211009T173000
DTEND;TZID=America/Halifax:20211009T210000
DTSTAMP:20260419T161039
CREATED:20210830T144637Z
LAST-MODIFIED:20220309T182122Z
UID:9645-1633800600-1633813200@www.tdsynnex.com
SUMMARY:TD SYNNEX Share the Magic Celebration at Hartness
DESCRIPTION:« All Events \n \nThe 11th Annual TD SYNNEX Share the Magic Celebration will be an event like no other! Join us on Saturday\, October 9th\, at Hartness Estate for a casual evening filled with fun games\, food trucks\, silent and live auctions\, and entertainment by Party on the Moon. \nAgenda: \n\n5:30 pm – Arrival\, Food Trucks and Hors d’oeuvres\, Cocktails and Games\n7:30 pm – Program and Live Auction\n8:30 pm – Performance by Party on the Moon\n\nSponsorship Opportunities: Click here to view sponsorship opportunities
URL:https://www.tdsynnex.com/na/sharethemagic/event/td-synnex-share-the-magic-celebration-at-hartness/
LOCATION:Grand Lawn at Hartness\, 300 Smith Road\, Greenville\, SC\, 29615\, United States
CATEGORIES:South Carolina
ATTACH;FMTTYPE=image/jpeg:https://www.tdsynnex.com/na/sharethemagic/wp-content/uploads/2021/08/SSTM-2021-Celebration-Hartness.jpeg
END:VEVENT
END:VCALENDAR