BEGIN:VCALENDAR
VERSION:2.0
PRODID:-//TD SYNNEX Share the Magic - ECPv6.3.4//NONSGML v1.0//EN
CALSCALE:GREGORIAN
METHOD:PUBLISH
X-ORIGINAL-URL:https://www.tdsynnex.com/na/sharethemagic
X-WR-CALDESC:Events for TD SYNNEX Share the Magic
REFRESH-INTERVAL;VALUE=DURATION:PT1H
X-Robots-Tag:noindex
X-PUBLISHED-TTL:PT1H
BEGIN:VTIMEZONE
TZID:America/Halifax
BEGIN:DAYLIGHT
TZOFFSETFROM:-0400
TZOFFSETTO:-0300
TZNAME:ADT
DTSTART:20230312T060000
END:DAYLIGHT
BEGIN:STANDARD
TZOFFSETFROM:-0300
TZOFFSETTO:-0400
TZNAME:AST
DTSTART:20231105T050000
END:STANDARD
END:VTIMEZONE
BEGIN:VEVENT
DTSTART;TZID=America/Halifax:20230821T070000
DTEND;TZID=America/Halifax:20230821T160000
DTSTAMP:20260421T132841
CREATED:20230406T175414Z
LAST-MODIFIED:20230406T175414Z
UID:12130-1692601200-1692633600@www.tdsynnex.com
SUMMARY:TD SYNNEX Share the Magic Golf Tournament (Colorado)
DESCRIPTION:« All Events\n \n\n \nJoin TD SYNNEX associates\, vendors\, partners and community friends at the 3rd Annual TD SYNNEX Share the Magic Colorado Golf Tournament for a day of golf\, networking and fun supporting the Children’s Hospital Colorado Foundation and the Hope for the Warriors veteran’s organization. \nSponsorship Opportunities: Click here to view sponsorship opportunities
URL:https://www.tdsynnex.com/na/sharethemagic/event/td-synnex-share-the-magic-golf-tournament-colorado-2/
LOCATION:Saddleback Golf Club\, 8631 Frontier St\, Firestone\, 80520\, United States
CATEGORIES:Colorado
ATTACH;FMTTYPE=image/jpeg:https://www.tdsynnex.com/na/sharethemagic/wp-content/uploads/2022/03/golfbenefit-websitegraphics-02.jpg
END:VEVENT
END:VCALENDAR