BEGIN:VCALENDAR
VERSION:2.0
PRODID:-//TD SYNNEX Share the Magic - ECPv6.3.4//NONSGML v1.0//EN
CALSCALE:GREGORIAN
METHOD:PUBLISH
X-ORIGINAL-URL:https://www.tdsynnex.com/na/sharethemagic
X-WR-CALDESC:Events for TD SYNNEX Share the Magic
REFRESH-INTERVAL;VALUE=DURATION:PT1H
X-Robots-Tag:noindex
X-PUBLISHED-TTL:PT1H
BEGIN:VTIMEZONE
TZID:America/Halifax
BEGIN:DAYLIGHT
TZOFFSETFROM:-0400
TZOFFSETTO:-0300
TZNAME:ADT
DTSTART:20230312T060000
END:DAYLIGHT
BEGIN:STANDARD
TZOFFSETFROM:-0300
TZOFFSETTO:-0400
TZNAME:AST
DTSTART:20231105T050000
END:STANDARD
BEGIN:DAYLIGHT
TZOFFSETFROM:-0400
TZOFFSETTO:-0300
TZNAME:ADT
DTSTART:20240310T060000
END:DAYLIGHT
BEGIN:STANDARD
TZOFFSETFROM:-0300
TZOFFSETTO:-0400
TZNAME:AST
DTSTART:20241103T050000
END:STANDARD
END:VTIMEZONE
BEGIN:VEVENT
DTSTART;VALUE=DATE:20240808
DTEND;VALUE=DATE:20240810
DTSTAMP:20260421T132520
CREATED:20240409T201338Z
LAST-MODIFIED:20240419T202220Z
UID:12379-1723075200-1723247999@www.tdsynnex.com
SUMMARY:TD SYNNEX Share the Magic St. Pete Fishing Classic and Casino Night
DESCRIPTION:Join us for a sun-soaked day in St. Petersburg August 8-9 for a fishing excursion and dazzling casino night experience. The events will feature a live auction\, games\, team prizes and more — all benefiting Children’s Dream Fund of Tampa Bay. \nSponsorship Opportunities
URL:https://www.tdsynnex.com/na/sharethemagic/event/td-synnex-share-the-magic-st-pete-fishing-classic-and-casino-night/
LOCATION:TBA
CATEGORIES:Florida
ATTACH;FMTTYPE=image/png:https://www.tdsynnex.com/na/sharethemagic/wp-content/uploads/2024/04/TDSSTM-Banner-02FL.png
END:VEVENT
BEGIN:VEVENT
DTSTART;TZID=America/Halifax:20231018T080000
DTEND;TZID=America/Halifax:20231018T170000
DTSTAMP:20260421T132520
CREATED:20230406T195704Z
LAST-MODIFIED:20230406T195704Z
UID:12151-1697616000-1697648400@www.tdsynnex.com
SUMMARY:TD SYNNEX Share the Magic Gala (Canada)
DESCRIPTION:« All Events\n \n\n \nHeld on the final evening of the Inspire Conference and broadcasted to remote attendees\, the TD SYNNEX Share the Magic Canada Gala will bring TD SYNNEX vendors\, partners\, associates\, and friends together for a fun-filled evening supporting FIRST® Canada and Kids Help Phone. \nSponsorship Opportunities: Click here to view sponsorship opportunities
URL:https://www.tdsynnex.com/na/sharethemagic/event/td-synnex-share-the-magic-gala-canada/
LOCATION:TBA
CATEGORIES:Canada
ATTACH;FMTTYPE=image/png:https://www.tdsynnex.com/na/sharethemagic/wp-content/uploads/2023/04/TDSSTM_2023Canada-Gala_Featured.png
END:VEVENT
END:VCALENDAR